BEGIN:VCALENDAR
VERSION:2.0
PRODID:-//MSG Rotenburg - ECPv6.15.20//NONSGML v1.0//EN
CALSCALE:GREGORIAN
METHOD:PUBLISH
X-WR-CALNAME:MSG Rotenburg
X-ORIGINAL-URL:https://msg-rotenburg.de
X-WR-CALDESC:Veranstaltungen für MSG Rotenburg
REFRESH-INTERVAL;VALUE=DURATION:PT1H
X-Robots-Tag:noindex
X-PUBLISHED-TTL:PT1H
BEGIN:VTIMEZONE
TZID:Europe/Berlin
BEGIN:DAYLIGHT
TZOFFSETFROM:+0100
TZOFFSETTO:+0200
TZNAME:CEST
DTSTART:20250330T010000
END:DAYLIGHT
BEGIN:STANDARD
TZOFFSETFROM:+0200
TZOFFSETTO:+0100
TZNAME:CET
DTSTART:20251026T010000
END:STANDARD
BEGIN:DAYLIGHT
TZOFFSETFROM:+0100
TZOFFSETTO:+0200
TZNAME:CEST
DTSTART:20260329T010000
END:DAYLIGHT
BEGIN:STANDARD
TZOFFSETFROM:+0200
TZOFFSETTO:+0100
TZNAME:CET
DTSTART:20261025T010000
END:STANDARD
BEGIN:DAYLIGHT
TZOFFSETFROM:+0100
TZOFFSETTO:+0200
TZNAME:CEST
DTSTART:20270328T010000
END:DAYLIGHT
BEGIN:STANDARD
TZOFFSETFROM:+0200
TZOFFSETTO:+0100
TZNAME:CET
DTSTART:20271031T010000
END:STANDARD
END:VTIMEZONE
BEGIN:VEVENT
DTSTART;TZID=Europe/Berlin:20260628T080000
DTEND;TZID=Europe/Berlin:20260628T180000
DTSTAMP:20260422T114707
CREATED:20251221T181306Z
LAST-MODIFIED:20260210T152943Z
UID:1419-1782633600-1782669600@msg-rotenburg.de
SUMMARY:Jugend Kart Slalom MSF Steinfeld
DESCRIPTION:Neunter Achter Lauf zum ADAC Weser-Ems Jugend Kart Slalom Pokal.
URL:https://msg-rotenburg.de/event/jugend-kart-slalom-msf-steinfeld/
CATEGORIES:Kart-Turnier,Sport- und Jugendgruppe
ATTACH;FMTTYPE=image/png:https://msg-rotenburg.de/wp-content/uploads/2025/12/kart_allgemein.png
ORGANIZER;CN="MSF-Steinfeld von 1982 e. V.":MAILTO:info@msf-steinfeld.de
END:VEVENT
BEGIN:VEVENT
DTSTART;TZID=Europe/Berlin:20260823T080000
DTEND;TZID=Europe/Berlin:20260823T180000
DTSTAMP:20260422T114707
CREATED:20251221T182842Z
LAST-MODIFIED:20260315T095946Z
UID:1425-1787472000-1787508000@msg-rotenburg.de
SUMMARY:Jugend Kart Slalom MSC Schüttorf
DESCRIPTION:Fünfter Lauf zur Landes Kart Slalom Meisterschaft Niedersachsen/Bremen.
URL:https://msg-rotenburg.de/event/jugend-kart-slalom-msc-schuettorf/
CATEGORIES:Kart-Turnier,Sport- und Jugendgruppe
ATTACH;FMTTYPE=image/png:https://msg-rotenburg.de/wp-content/uploads/2025/12/kart_allgemein.png
ORGANIZER;CN="MSC Sch%C3%BCttorf e. V. im ADAC":MAILTO:info-Club@msc-schuettorf.de
END:VEVENT
BEGIN:VEVENT
DTSTART;TZID=Europe/Berlin:20260830T080000
DTEND;TZID=Europe/Berlin:20260830T180000
DTSTAMP:20260422T114707
CREATED:20251221T183231Z
LAST-MODIFIED:20260315T100047Z
UID:1427-1788076800-1788112800@msg-rotenburg.de
SUMMARY:Jugend Kart Slalom MSG Sulinger Land
DESCRIPTION:Sechster Lauf zur Landes Kart Slalom Meisterschaft Niedersachsen/Bremen.
URL:https://msg-rotenburg.de/event/jugend-kart-slalom-msg-sulinger-land/
CATEGORIES:Kart-Turnier,Sport- und Jugendgruppe
ATTACH;FMTTYPE=image/png:https://msg-rotenburg.de/wp-content/uploads/2025/12/kart_allgemein.png
ORGANIZER;CN="MSG Sulinger Land e.V im ADAC":MAILTO:kontakt@msg-sulingen.eu
END:VEVENT
BEGIN:VEVENT
DTSTART;TZID=Europe/Berlin:20260927T080000
DTEND;TZID=Europe/Berlin:20260927T180000
DTSTAMP:20260422T114707
CREATED:20251221T184340Z
LAST-MODIFIED:20251221T184345Z
UID:1429-1790496000-1790532000@msg-rotenburg.de
SUMMARY:34. Norddeutscher ADAC Kartslalom Endlauf
DESCRIPTION:Der Norddeutsche Endlauf zum ADAC Weser-Ems Jugend Kart Slalom Pokal.
URL:https://msg-rotenburg.de/event/34-norddeutscher-adac-kartslalom-endlauf/
CATEGORIES:Kart-Turnier,Sport- und Jugendgruppe
ATTACH;FMTTYPE=image/png:https://msg-rotenburg.de/wp-content/uploads/2025/12/kart_allgemein.png
END:VEVENT
BEGIN:VEVENT
DTSTART;TZID=Europe/Berlin:20261017T080000
DTEND;TZID=Europe/Berlin:20261018T170000
DTSTAMP:20260422T114707
CREATED:20260315T101846Z
LAST-MODIFIED:20260315T101850Z
UID:1619-1792224000-1792342800@msg-rotenburg.de
SUMMARY:Deutsche Kart-Slalom-Meisterschaft 2026
DESCRIPTION:Der Endlauf zur deutschen Kart-Slalom-Meisterschaft 2026 in Steißlingen.
URL:https://msg-rotenburg.de/event/deutsche-kart-slalom-meisterschaft-2026/
CATEGORIES:Kart-Turnier,Sport- und Jugendgruppe
ATTACH;FMTTYPE=image/png:https://msg-rotenburg.de/wp-content/uploads/2025/12/kart_allgemein.png
ORGANIZER;CN="ADAC S%C3%BCdbaden e.V.":MAILTO:ADAC-Sport@sba.adac.de
END:VEVENT
END:VCALENDAR